BEGIN:VCALENDAR
VERSION:2.0
PRODID:-//pretix//pretix.eu//
BEGIN:VTIMEZONE
TZID:Europe/Berlin
BEGIN:STANDARD
DTSTART:20001029T040000
RRULE:FREQ=YEARLY;BYDAY=-1SU;BYMONTH=10
TZNAME:CET
TZOFFSETFROM:+0200
TZOFFSETTO:+0100
END:STANDARD
BEGIN:DAYLIGHT
DTSTART:20000326T030000
RRULE:FREQ=YEARLY;BYDAY=-1SU;BYMONTH=3
TZNAME:CEST
TZOFFSETFROM:+0100
TZOFFSETTO:+0200
END:DAYLIGHT
END:VTIMEZONE
BEGIN:VEVENT
UID:pretix-konglomerat-color-0@events.konglomerat.org
DTSTART;TZID=Europe/Berlin:20260418T110000
DTEND;TZID=Europe/Berlin:20260418T180000
DESCRIPTION:Tickets: https://events.konglomerat.org/color/\nOrganizer: Kong
 lomerat e.V.
DTSTAMP:20260421T081624Z
LOCATION:At DRKRM
SUMMARY:Color Photography Workshop
END:VEVENT
BEGIN:VEVENT
UID:pretix-konglomerat-cnc-cam-4813971@events.konglomerat.org
DTSTART;TZID=Europe/Berlin:20260425T100000
DTEND;TZID=Europe/Berlin:20260425T140000
DESCRIPTION:Tickets: https://events.konglomerat.org/cnc-cam/4813971/\nOrgan
 izer: Konglomerat e.V.
DTSTAMP:20260421T081624Z
LOCATION:Rosenwerk\, Jagdweg 1-3\, 01159 Dresden
SUMMARY:CNC Workshop 2: CAM
END:VEVENT
BEGIN:VEVENT
UID:pretix-konglomerat-cnc-instruction-4813972@events.konglomerat.org
DTSTART;TZID=Europe/Berlin:20260426T100000
DTEND;TZID=Europe/Berlin:20260426T140000
DESCRIPTION:Tickets: https://events.konglomerat.org/cnc-instruction/4813972
 /\nOrganizer: Konglomerat e.V.
DTSTAMP:20260421T081624Z
LOCATION:Rosenwerk\, Jagdweg 1-3\, 01159 Dresden
SUMMARY:CNC Workshop 3: Einweisung
END:VEVENT
BEGIN:VEVENT
UID:pretix-konglomerat-meggimesser-4813969@events.konglomerat.org
DTSTART;TZID=Europe/Berlin:20270101T100000
DTEND;TZID=Europe/Berlin:20270101T180000
DESCRIPTION:Tickets: https://events.konglomerat.org/meggimesser/4813969/\nO
 rganizer: Konglomerat e.V.
DTSTAMP:20260421T081624Z
LOCATION:Holzwerkstatt\, Rosenwerk\, Jagdweg 1-3\, 01159 Dresden
SUMMARY:Warteliste für nächsten Termin (Datum wird noch bekanntgegeben)
END:VEVENT
BEGIN:VEVENT
UID:pretix-konglomerat-cnc-cam-4920835@events.konglomerat.org
DTSTART;TZID=Europe/Berlin:20270101T100000
DTEND;TZID=Europe/Berlin:20270101T140000
DESCRIPTION:Tickets: https://events.konglomerat.org/cnc-cam/4920835/\nOrgan
 izer: Konglomerat e.V.
DTSTAMP:20260421T081624Z
LOCATION:Rosenwerk\, Jagdweg 1-3\, 01159 Dresden
SUMMARY:Warteliste für nächsten Termin (Datum wird noch bekanntgegeben)
END:VEVENT
BEGIN:VEVENT
UID:pretix-konglomerat-cnc-instruction-4920838@events.konglomerat.org
DTSTART;TZID=Europe/Berlin:20270101T100000
DTEND;TZID=Europe/Berlin:20270101T140000
DESCRIPTION:Tickets: https://events.konglomerat.org/cnc-instruction/4920838
 /\nOrganizer: Konglomerat e.V.
DTSTAMP:20260421T081624Z
LOCATION:Rosenwerk\, Jagdweg 1-3\, 01159 Dresden
SUMMARY:Warteliste für nächsten Termin (Datum wird noch bekanntgegeben)
END:VEVENT
BEGIN:VEVENT
UID:pretix-konglomerat-cnc-cad1-4868872@events.konglomerat.org
DTSTART;VALUE=DATE:20270101
DTEND;VALUE=DATE:20270102
DESCRIPTION:Tickets: https://events.konglomerat.org/cnc-cad1/4868872/\nOrga
 nizer: Konglomerat e.V.
DTSTAMP:20260421T081624Z
LOCATION:Rosenwerk\, Jagdweg 1-3\, 01159 Dresden
SUMMARY:Warteliste für nächsten Termin (Datum wird noch bekanntgegeben)
END:VEVENT
END:VCALENDAR
